BEGIN:VCALENDAR
VERSION:2.0
PRODID:Events Booking
BEGIN:VEVENT
UID:69eb72436d19c
SUMMARY:Webinar: Kako izpolniti zahteve in pridobiti certifikat AQAP 2110  
 za sodelovanje v NATO dobavni verigi
DESCRIPTION:Člane vabimo na spletni izobraževalni strokovni dogodek v org
 anizaciji TECES in Slovenskega instituta za kakovost in meroslovje Ljublja
 na z naslovom »Kako izpolniti zahteve in pridobiti certifikat AQAP 2110 z
 a sodelovanje v NATO dobavni verigi\,« ki bo v četrtek\, 7. maja 2026 ob
  13. uri preko MS Teams.
 Na webinarju bomo predstavili zahteve standarda
  AQAP 2110 ter postopek pridobitve certifikata za organizacije\, ki želij
 o sodelovati v obrambni dobavni verigi\, še posebej za partnerje\, ki že
  sodelujejo ali načrtujejo sodelovanje v projektih pod okriljem Ministrst
 va za obrambo RS.
 Dogodek vključuje tudi interaktivni del z vprašanji 
 in odgovori\, kjer boste lahko udeleženci izpostavili svoje izzive in dob
 ili nadaljnje usmeritve za svoje podjetje.
 Povezava do dogodka
LOCATION:MS Teams dogodek
DTSTART:20260507T110000Z
DTEND:20260507T114500Z
DTSTAMP:20260422T071009Z
ORGANIZER;CN=TECES:MAILTO:cmswp@teces.si
GEO:46.552906;15.651472
X-APPLE-STRUCTURED-LOCATION;VALUE=URI;X-ADDRESS=MS Teams dogodek;X-APPLE-RA
 DIUS=72;X-TITLE=Spletni dogodek:46.552906;15.651472
END:VEVENT
END:VCALENDAR